BEGIN:VCALENDAR
VERSION:2.0
BEGIN:VEVENT
URL:http://sosediya.com/moia-stranitca/dom-i-pridomovaia-territoriia/solomenskii-raion-g-kiev/viewevent/sorevnovanie-po-basketbolu 
DTSTART:20131218T010000
DTEND:20131220T010000
SUMMARY:Соревнование по баскетболу
DESCRIPTION:
LOCATION:СШ №166 (вул. Єреванська,20), Киев
END:VEVENT
END:VCALENDAR