BEGIN:VCALENDAR
VERSION:2.0
BEGIN:VEVENT
URL:http://sosediya.com/moia-stranitca/dom-i-pridomovaia-territoriia/solomenskii-raion-g-kiev/viewevent/v-parku-іmenі-m-ostrovskogo-zasvіchennia-novorіchnoї-ialinki 
DTSTART:20131219T164500
DTEND:20131219T171500
SUMMARY:В парку імені М. Островського - засвічення новорічної ялинки.
DESCRIPTION:<p style="text-align: justify;">
	<br />
	<span style="font-size: small;">19 грудня з 16:45 до 17:15 в парку імені М. Островського відбудеться свято засвічення новорічної ялинки.</span></p>
<br />
<p style="text-align: justify;">
	<br />
	<span style="font-size: small;">Казкові помічники Діда Мороза проведуть серед дітей святкові ігри та конкурси, а переможці отримають подарунки від голови Солом&rsquo;янської районної в місті Києві державної адміністрації Максима Луцького.</span></p>
<br />
<p style="text-align: justify;">
	<br />
	<span style="font-size: small;">Ну а засвітить головну красуню новорічних свят, звичайно ж, Дід Мороз.</span></p>
LOCATION:парк імені М. Островського, Киев
END:VEVENT
END:VCALENDAR